BEGIN:VCALENDAR
VERSION:2.0
PRODID:-//Scentventure - ECPv6.10.0//NONSGML v1.0//EN
CALSCALE:GREGORIAN
METHOD:PUBLISH
X-WR-CALNAME:Scentventure
X-ORIGINAL-URL:https://scentventure.dog
X-WR-CALDESC:Events for Scentventure
REFRESH-INTERVAL;VALUE=DURATION:PT1H
X-Robots-Tag:noindex
X-PUBLISHED-TTL:PT1H
BEGIN:VTIMEZONE
TZID:Europe/London
BEGIN:DAYLIGHT
TZOFFSETFROM:+0000
TZOFFSETTO:+0100
TZNAME:BST
DTSTART:20240331T010000
END:DAYLIGHT
BEGIN:STANDARD
TZOFFSETFROM:+0100
TZOFFSETTO:+0000
TZNAME:GMT
DTSTART:20241027T010000
END:STANDARD
END:VTIMEZONE
BEGIN:VEVENT
DTSTART;TZID=Europe/London:20240423T183000
DTEND;TZID=Europe/London:20240423T193000
DTSTAMP:20260421T010811
CREATED:20240201T101102Z
LAST-MODIFIED:20240311T154021Z
UID:36471-1713897000-1713900600@scentventure.dog
SUMMARY:[ROADMAP JAN COHORT] Turbo Charger Q&As with Deb
DESCRIPTION:Topic: Roadmap Turbo Charger\nTime: 23rd April\, 2024 06:30 PM Greenwich Mean Time \nhttps://us02web.zoom.us/j/85182429075 \nMeeting ID: 851 8242 9075\nPasscode: 082054
URL:https://scentventure.dog/event/roadmap-jan-cohort-turbo-charger-qas-with-deb-8/
LOCATION:Zoom\, United Kingdom
CATEGORIES:New Members,Roadmap
END:VEVENT
END:VCALENDAR