BEGIN:VCALENDAR
VERSION:2.0
PRODID:-//Scentventure - ECPv6.10.0//NONSGML v1.0//EN
CALSCALE:GREGORIAN
METHOD:PUBLISH
X-ORIGINAL-URL:https://scentventure.dog
X-WR-CALDESC:Events for Scentventure
REFRESH-INTERVAL;VALUE=DURATION:PT1H
X-Robots-Tag:noindex
X-PUBLISHED-TTL:PT1H
BEGIN:VTIMEZONE
TZID:Europe/London
BEGIN:DAYLIGHT
TZOFFSETFROM:+0000
TZOFFSETTO:+0100
TZNAME:BST
DTSTART:20240331T010000
END:DAYLIGHT
BEGIN:STANDARD
TZOFFSETFROM:+0100
TZOFFSETTO:+0000
TZNAME:GMT
DTSTART:20241027T010000
END:STANDARD
END:VTIMEZONE
BEGIN:VEVENT
DTSTART;TZID=Europe/London:20240417T183000
DTEND;TZID=Europe/London:20240417T193000
DTSTAMP:20260421T010837
CREATED:20240327T103357Z
LAST-MODIFIED:20240327T103357Z
UID:38750-1713378600-1713382200@scentventure.dog
SUMMARY:[ALL MEMBERS] Environment Compass Point Live Deep Dive
DESCRIPTION:First up in the Compass Points live series: Environment. Where obstacles in your home\, garden or on walks are repurposed for adventure.  \nKatie will explore why the Environment Compass Point is so integral to having a well-balanced\, resilient dog and how the science backs up those observations! \nBut this is not just for new members! We’ll get the ideas flowing on how Environment can be incorporated into Refine & Optimise ‘next level’ targeted behaviour modification plans and how the skills can be elevated for the Compass Rose Award. \nTime: Apr 17\, 2024 06:30 PM London \nhttps://us02web.zoom.us/j/85833486684  \nMeeting ID: 858 3348 6684 \nPasscode: 347545
URL:https://scentventure.dog/event/all-members-environment-compass-point-live-deep-dive/
LOCATION:Zoom\, United Kingdom
CATEGORIES:Club Dogwood
END:VEVENT
END:VCALENDAR