BEGIN:VCALENDAR
VERSION:2.0
PRODID:-//Scentventure - ECPv6.10.0//NONSGML v1.0//EN
CALSCALE:GREGORIAN
METHOD:PUBLISH
X-WR-CALNAME:Scentventure
X-ORIGINAL-URL:https://scentventure.dog
X-WR-CALDESC:Events for Scentventure
REFRESH-INTERVAL;VALUE=DURATION:PT1H
X-Robots-Tag:noindex
X-PUBLISHED-TTL:PT1H
BEGIN:VTIMEZONE
TZID:Europe/London
BEGIN:DAYLIGHT
TZOFFSETFROM:+0000
TZOFFSETTO:+0100
TZNAME:BST
DTSTART:20240331T010000
END:DAYLIGHT
BEGIN:STANDARD
TZOFFSETFROM:+0100
TZOFFSETTO:+0000
TZNAME:GMT
DTSTART:20241027T010000
END:STANDARD
END:VTIMEZONE
BEGIN:VEVENT
DTSTART;TZID=Europe/London:20240410T183000
DTEND;TZID=Europe/London:20240410T193000
DTSTAMP:20260421T010811
CREATED:20240327T103053Z
LAST-MODIFIED:20240327T103053Z
UID:38744-1712773800-1712777400@scentventure.dog
SUMMARY:[THRIVE] Yoga for Menopause with Sharon
DESCRIPTION:Looking at Women's Health through Yoga and exploring the seasons of our lives. Each of us will be in a different stage and this class will embrace us all and support us as we travel on this journey through menstruation\, perimenopause\, menopause and post menopause. You will need comfy clothes and your yoga mat. You might want to bring a journal or a notebook.  \n  \nTime: Apr 10\, 2024 06:30 PM London \nhttps://us02web.zoom.us/j/84440866766  \nMeeting ID: 844 4086 6766 \nPasscode: 012953
URL:https://scentventure.dog/event/thrive-yoga-for-menopause-with-sharon/
LOCATION:Zoom\, United Kingdom
CATEGORIES:THRIVE
END:VEVENT
END:VCALENDAR