BEGIN:VCALENDAR
VERSION:2.0
PRODID:-//Scentventure - ECPv6.10.0//NONSGML v1.0//EN
CALSCALE:GREGORIAN
METHOD:PUBLISH
X-ORIGINAL-URL:https://scentventure.dog
X-WR-CALDESC:Events for Scentventure
REFRESH-INTERVAL;VALUE=DURATION:PT1H
X-Robots-Tag:noindex
X-PUBLISHED-TTL:PT1H
BEGIN:VTIMEZONE
TZID:Europe/London
BEGIN:DAYLIGHT
TZOFFSETFROM:+0000
TZOFFSETTO:+0100
TZNAME:BST
DTSTART:20240331T010000
END:DAYLIGHT
BEGIN:STANDARD
TZOFFSETFROM:+0100
TZOFFSETTO:+0000
TZNAME:GMT
DTSTART:20241027T010000
END:STANDARD
END:VTIMEZONE
BEGIN:VEVENT
DTSTART;TZID=Europe/London:20240320T183000
DTEND;TZID=Europe/London:20240320T193000
DTSTAMP:20260421T030216
CREATED:20240228T133446Z
LAST-MODIFIED:20240228T133446Z
UID:37643-1710959400-1710963000@scentventure.dog
SUMMARY:[THRIVE] Face Yoga With Sharon
DESCRIPTION:Our faces have muscles too and we can work them just as we do our body's. We will tone and relax the face\, neck and shoulders in this class. All you need is yourself and a facial oil if you have any\, but not necessary. \n  \nTime: Mar 20\, 2024 06:30 PM London \nhttps://us02web.zoom.us/j/86527751843  \nMeeting ID: 865 2775 1843 \nPasscode: 755005
URL:https://scentventure.dog/event/thrive-face-yoga-with-sharon/
LOCATION:Zoom\, United Kingdom
CATEGORIES:THRIVE
END:VEVENT
END:VCALENDAR