BEGIN:VCALENDAR
VERSION:2.0
PRODID:-//Scentventure - ECPv6.10.0//NONSGML v1.0//EN
CALSCALE:GREGORIAN
METHOD:PUBLISH
X-ORIGINAL-URL:https://scentventure.dog
X-WR-CALDESC:Events for Scentventure
REFRESH-INTERVAL;VALUE=DURATION:PT1H
X-Robots-Tag:noindex
X-PUBLISHED-TTL:PT1H
BEGIN:VTIMEZONE
TZID:Europe/London
BEGIN:DAYLIGHT
TZOFFSETFROM:+0000
TZOFFSETTO:+0100
TZNAME:BST
DTSTART:20240331T010000
END:DAYLIGHT
BEGIN:STANDARD
TZOFFSETFROM:+0100
TZOFFSETTO:+0000
TZNAME:GMT
DTSTART:20241027T010000
END:STANDARD
END:VTIMEZONE
BEGIN:VEVENT
DTSTART;TZID=Europe/London:20240228T183000
DTEND;TZID=Europe/London:20240228T193000
DTSTAMP:20260421T030218
CREATED:20240131T135540Z
LAST-MODIFIED:20240208T092708Z
UID:36393-1709145000-1709148600@scentventure.dog
SUMMARY:[THRIVE] Mandalas with Sharon
DESCRIPTION:Drawing Mandalas as a tool to quieten the mind. Mindfulness and art combined. You will need paper (sketchbook or scrap paper) pencils or pens and any colouring equipment you prefer\, be it coloured pencils or paints. Have your yoga mat handy too! \n  \nTime: Feb 28\, 2024 06:30 PM London \nhttps://us02web.zoom.us/j/83041783476  \nMeeting ID: 830 4178 3476 \nPasscode: 588125
URL:https://scentventure.dog/event/mandalas-with-sharon/
LOCATION:Zoom\, United Kingdom
CATEGORIES:THRIVE
END:VEVENT
END:VCALENDAR