BEGIN:VCALENDAR
VERSION:2.0
PRODID:-//Scentventure - ECPv6.10.0//NONSGML v1.0//EN
CALSCALE:GREGORIAN
METHOD:PUBLISH
X-ORIGINAL-URL:https://scentventure.dog
X-WR-CALDESC:Events for Scentventure
REFRESH-INTERVAL;VALUE=DURATION:PT1H
X-Robots-Tag:noindex
X-PUBLISHED-TTL:PT1H
BEGIN:VTIMEZONE
TZID:Europe/London
BEGIN:DAYLIGHT
TZOFFSETFROM:+0000
TZOFFSETTO:+0100
TZNAME:BST
DTSTART:20240331T010000
END:DAYLIGHT
BEGIN:STANDARD
TZOFFSETFROM:+0100
TZOFFSETTO:+0000
TZNAME:GMT
DTSTART:20241027T010000
END:STANDARD
END:VTIMEZONE
BEGIN:VEVENT
DTSTART;TZID=Europe/London:20240221T183000
DTEND;TZID=Europe/London:20240221T193000
DTSTAMP:20260421T044801
CREATED:20240201T100004Z
LAST-MODIFIED:20240201T100004Z
UID:36454-1708540200-1708543800@scentventure.dog
SUMMARY:[ROADMAP JAN COHORT] Speak Dog
DESCRIPTION:Instead of words\, dogs use body language to communicate. When you become fluent at reading your dog's body language you will be able to prevent escalations before they happen. No more nasty surprises\, no more guessing. \nJoin Katie in this most fascinating of subjects! We're taking a deep dive into your dog's body language signals. \n  \nTopic: Roadmap: Speak Dog\nTime: Feb 21\, 2024 06:30 PM London \nhttps://us02web.zoom.us/j/87904049646 \nMeeting ID: 879 0404 9646\nPasscode: 794992
URL:https://scentventure.dog/event/roadmap-jan-cohort-speak-dog/
LOCATION:Zoom\, United Kingdom
CATEGORIES:New Members,Roadmap
END:VEVENT
END:VCALENDAR