BEGIN:VCALENDAR
VERSION:2.0
PRODID:-//Scentventure - ECPv6.10.0//NONSGML v1.0//EN
CALSCALE:GREGORIAN
METHOD:PUBLISH
X-ORIGINAL-URL:https://scentventure.dog
X-WR-CALDESC:Events for Scentventure
REFRESH-INTERVAL;VALUE=DURATION:PT1H
X-Robots-Tag:noindex
X-PUBLISHED-TTL:PT1H
BEGIN:VTIMEZONE
TZID:Europe/London
BEGIN:DAYLIGHT
TZOFFSETFROM:+0000
TZOFFSETTO:+0100
TZNAME:BST
DTSTART:20240331T010000
END:DAYLIGHT
BEGIN:STANDARD
TZOFFSETFROM:+0100
TZOFFSETTO:+0000
TZNAME:GMT
DTSTART:20241027T010000
END:STANDARD
END:VTIMEZONE
BEGIN:VEVENT
DTSTART;TZID=Europe/London:20240213T183000
DTEND;TZID=Europe/London:20240213T193000
DTSTAMP:20260421T044801
CREATED:20240201T100649Z
LAST-MODIFIED:20240201T100649Z
UID:36459-1707849000-1707852600@scentventure.dog
SUMMARY:[ROADMAP JAN COHORT] Turbo Charger Q&As with Deb
DESCRIPTION:13/02/24\nTopic: Roadmap Turbo Charger \nTime: Feb 13\, 2024 06:30 PM Greenwich Mean Time \nhttps://us02web.zoom.us/j/85377719146 \nMeeting ID: 853 7771 9146 \nPasscode: 627387
URL:https://scentventure.dog/event/roadmap-jan-cohort-turbo-charger-qas-with-deb-2/
LOCATION:Zoom\, United Kingdom
CATEGORIES:New Members,Roadmap
END:VEVENT
END:VCALENDAR