BEGIN:VCALENDAR
VERSION:2.0
PRODID:-//Scentventure - ECPv6.10.0//NONSGML v1.0//EN
CALSCALE:GREGORIAN
METHOD:PUBLISH
X-ORIGINAL-URL:https://scentventure.dog
X-WR-CALDESC:Events for Scentventure
REFRESH-INTERVAL;VALUE=DURATION:PT1H
X-Robots-Tag:noindex
X-PUBLISHED-TTL:PT1H
BEGIN:VTIMEZONE
TZID:Europe/London
BEGIN:DAYLIGHT
TZOFFSETFROM:+0000
TZOFFSETTO:+0100
TZNAME:BST
DTSTART:20240331T010000
END:DAYLIGHT
BEGIN:STANDARD
TZOFFSETFROM:+0100
TZOFFSETTO:+0000
TZNAME:GMT
DTSTART:20241027T010000
END:STANDARD
END:VTIMEZONE
BEGIN:VEVENT
DTSTART;TZID=Europe/London:20240201T183000
DTEND;TZID=Europe/London:20240201T193000
DTSTAMP:20260421T044804
CREATED:20240131T135642Z
LAST-MODIFIED:20240201T094028Z
UID:36395-1706812200-1706815800@scentventure.dog
SUMMARY:[ALL MEMBERS] Canine Aromatherapy with Emma Spink
DESCRIPTION:Using essential oils to support human and animal health has gained in both popularity and as an area of research in recent years. Utilising their powerful benefits to support physical and behavioural imbalances can have amazing results. Understanding how they work\, how to use them safely and what your dog already knows about them will give you the confidence to investigate a new way of strengthening your partnership. \nTime: Feb 1\, 2024 06:30 PM London \nhttps://us02web.zoom.us/j/84646089123  \nMeeting ID: 846 4608 9123 \nPasscode: 261401
URL:https://scentventure.dog/event/expert-guest-live-canine-aromatherapy-with-emma-spink/
LOCATION:Zoom\, United Kingdom
CATEGORIES:Club Dogwood
END:VEVENT
END:VCALENDAR