BEGIN:VCALENDAR
VERSION:2.0
PRODID:-//Scentventure - ECPv6.10.0//NONSGML v1.0//EN
CALSCALE:GREGORIAN
METHOD:PUBLISH
X-ORIGINAL-URL:https://scentventure.dog
X-WR-CALDESC:Events for Scentventure
REFRESH-INTERVAL;VALUE=DURATION:PT1H
X-Robots-Tag:noindex
X-PUBLISHED-TTL:PT1H
BEGIN:VTIMEZONE
TZID:Europe/London
BEGIN:DAYLIGHT
TZOFFSETFROM:+0000
TZOFFSETTO:+0100
TZNAME:BST
DTSTART:20240331T010000
END:DAYLIGHT
BEGIN:STANDARD
TZOFFSETFROM:+0100
TZOFFSETTO:+0000
TZNAME:GMT
DTSTART:20241027T010000
END:STANDARD
END:VTIMEZONE
BEGIN:VEVENT
DTSTART;TZID=Europe/London:20240106T073000
DTEND;TZID=Europe/London:20240114T170000
DTSTAMP:20260418T220026
CREATED:20240102T102229Z
LAST-MODIFIED:20240102T102229Z
UID:34478-1704526200-1705251600@scentventure.dog
SUMMARY:January Public Challenge - All Welcome!
DESCRIPTION:January Challenge: Your First Steps to Success \nTime: Jan 6\, 2024 10:00 AM London \nhttps://us02web.zoom.us/j/84148005233 \nMeeting ID: 841 4800 5233 \nPasscode: 910545 \n  \nJanuary Challenge: No Brainer Techniques for Defeating Distractions \nTime: Jan 7\, 2024 10:00 AM London \nhttps://us02web.zoom.us/j/86255064234 \nMeeting ID: 862 5506 4234 \nPasscode: 931921 \n  \nJanuary Challenge: Loose Lead Legends \nTime: Jan 8\, 2024 06:30 PM London \nhttps://us02web.zoom.us/j/83969757391 \nMeeting ID: 839 6975 7391 \nPasscode: 058836 \n  \nJanuary Challenge: The Dangerous Domino Effect \nTime: Jan 9\, 2024 06:30 PM London \nhttps://us02web.zoom.us/j/82608710819 \nMeeting ID: 826 0871 0819 \nPasscode: 087624 \n  \nJanuary Challenge: The BIG Stress Free Dog Owner's Treatment Plan \nTime: Jan 10\, 2024 06:30 PM London \nhttps://us02web.zoom.us/j/85638122608 \nMeeting ID: 856 3812 2608 \nPasscode: 572904 \n  \nJanuary Challenge: Behind the Scenes: ‘How They Did That’ Special \nTime: Jan 14\, 2024 10:00 AM London \nhttps://us02web.zoom.us/j/81634020630 \nMeeting ID: 816 3402 0630 \nPasscode: 676512
URL:https://scentventure.dog/event/january-public-challenge-all-welcome/
LOCATION:Zoom\, United Kingdom
CATEGORIES:Club Dogwood
END:VEVENT
END:VCALENDAR