BEGIN:VCALENDAR
VERSION:2.0
PRODID:-//Scentventure - ECPv6.10.0//NONSGML v1.0//EN
CALSCALE:GREGORIAN
METHOD:PUBLISH
X-WR-CALNAME:Scentventure
X-ORIGINAL-URL:https://scentventure.dog
X-WR-CALDESC:Events for Scentventure
REFRESH-INTERVAL;VALUE=DURATION:PT1H
X-Robots-Tag:noindex
X-PUBLISHED-TTL:PT1H
BEGIN:VTIMEZONE
TZID:Europe/London
BEGIN:DAYLIGHT
TZOFFSETFROM:+0000
TZOFFSETTO:+0100
TZNAME:BST
DTSTART:20230326T010000
END:DAYLIGHT
BEGIN:STANDARD
TZOFFSETFROM:+0100
TZOFFSETTO:+0000
TZNAME:GMT
DTSTART:20231029T010000
END:STANDARD
END:VTIMEZONE
BEGIN:VEVENT
DTSTART;TZID=Europe/London:20231213T183000
DTEND;TZID=Europe/London:20231213T193000
DTSTAMP:20260421T081637
CREATED:20231027T093204Z
LAST-MODIFIED:20231107T075759Z
UID:32630-1702492200-1702495800@scentventure.dog
SUMMARY:Club Dogwood: Christmas Party!
DESCRIPTION:Club Dogwood Christmas Party! \nLet’s come together to celebrate our best bits from 23\, play Christmas games and find out who our Annual Achievement Award Winners are! Plus\, are you excited to hear which themes made the final cut for 24? You’ll find out at the party! \nTime: Dec 13\, 2023 06:30 PM London \nhttps://us02web.zoom.us/j/88013674920 \nMeeting ID: 880 1367 4920 \nPasscode: 092410
URL:https://scentventure.dog/event/13th-club-dogwood-christmas-party/
LOCATION:Zoom\, United Kingdom
CATEGORIES:Club Dogwood
END:VEVENT
END:VCALENDAR