BEGIN:VCALENDAR
VERSION:2.0
PRODID:-//Scentventure - ECPv6.10.0//NONSGML v1.0//EN
CALSCALE:GREGORIAN
METHOD:PUBLISH
X-WR-CALNAME:Scentventure
X-ORIGINAL-URL:https://scentventure.dog
X-WR-CALDESC:Events for Scentventure
REFRESH-INTERVAL;VALUE=DURATION:PT1H
X-Robots-Tag:noindex
X-PUBLISHED-TTL:PT1H
BEGIN:VTIMEZONE
TZID:Europe/London
BEGIN:DAYLIGHT
TZOFFSETFROM:+0000
TZOFFSETTO:+0100
TZNAME:BST
DTSTART:20230326T010000
END:DAYLIGHT
BEGIN:STANDARD
TZOFFSETFROM:+0100
TZOFFSETTO:+0000
TZNAME:GMT
DTSTART:20231029T010000
END:STANDARD
END:VTIMEZONE
BEGIN:VEVENT
DTSTART;TZID=Europe/London:20231206T183000
DTEND;TZID=Europe/London:20231206T193000
DTSTAMP:20260421T081102
CREATED:20231027T093120Z
LAST-MODIFIED:20231107T075840Z
UID:32628-1701887400-1701891000@scentventure.dog
SUMMARY:Snufflematathon!
DESCRIPTION:In 2019 Katie and Helen hosted the world’s first ever Snuffle-mat-a-thon! Now we’re into our FIFTH year and it’s extra special because Helen is joining us live from Sri Lanka where she is volunteering for WECare Worldwide\, providing medical care for street dogs.  \n  \nThis is a Pay What You Can charity fundraiser and crafting event. All proceeds from the event will go to Helen’s cause. \n  \nhttps://scentventure.dog/snufflematathon/  \n  \nTime: Dec 6\, 2023 06:30 PM London \nhttps://us02web.zoom.us/j/86874118940 \nMeeting ID: 868 7411 8940 \nPasscode: 529966
URL:https://scentventure.dog/event/6th-snufflematathon/
LOCATION:Zoom\, United Kingdom
CATEGORIES:Club Dogwood
END:VEVENT
END:VCALENDAR