BEGIN:VCALENDAR
VERSION:2.0
PRODID:-//Scentventure - ECPv6.10.0//NONSGML v1.0//EN
CALSCALE:GREGORIAN
METHOD:PUBLISH
X-WR-CALNAME:Scentventure
X-ORIGINAL-URL:https://scentventure.dog
X-WR-CALDESC:Events for Scentventure
REFRESH-INTERVAL;VALUE=DURATION:PT1H
X-Robots-Tag:noindex
X-PUBLISHED-TTL:PT1H
BEGIN:VTIMEZONE
TZID:Europe/London
BEGIN:DAYLIGHT
TZOFFSETFROM:+0000
TZOFFSETTO:+0100
TZNAME:BST
DTSTART:20230326T010000
END:DAYLIGHT
BEGIN:STANDARD
TZOFFSETFROM:+0100
TZOFFSETTO:+0000
TZNAME:GMT
DTSTART:20231029T010000
END:STANDARD
END:VTIMEZONE
BEGIN:VEVENT
DTSTART;TZID=Europe/London:20231204T183000
DTEND;TZID=Europe/London:20231204T193000
DTSTAMP:20260421T081643
CREATED:20231117T100048Z
LAST-MODIFIED:20231117T100048Z
UID:33175-1701714600-1701718200@scentventure.dog
SUMMARY:THRIVE: SHARING CIRCLE PART II
DESCRIPTION:Continuing from last month's Bereavement Sharing Circle which we found cathartic\, we're inviting you to come together again to continue the conversation but this time to share some memories about anyone you have lost that makes you smile or laugh. If you haven't suffered a big loss yet\, share the things you love most about the people and animals closest to you\, or witness other people's shares. It's an opportunity to celebrate.\n\nTime: Dec 4\, 2023 06:30 PM London\nhttps://us02web.zoom.us/j/89636399329\nMeeting ID: 896 3639 9329\nPasscode: 412959
URL:https://scentventure.dog/event/thrive-sharing-circle-part-ii/
LOCATION:Zoom\, United Kingdom
CATEGORIES:THRIVE
END:VEVENT
END:VCALENDAR