BEGIN:VCALENDAR
VERSION:2.0
PRODID:-//Scentventure - ECPv6.10.0//NONSGML v1.0//EN
CALSCALE:GREGORIAN
METHOD:PUBLISH
X-ORIGINAL-URL:https://scentventure.dog
X-WR-CALDESC:Events for Scentventure
REFRESH-INTERVAL;VALUE=DURATION:PT1H
X-Robots-Tag:noindex
X-PUBLISHED-TTL:PT1H
BEGIN:VTIMEZONE
TZID:Europe/London
BEGIN:DAYLIGHT
TZOFFSETFROM:+0000
TZOFFSETTO:+0100
TZNAME:BST
DTSTART:20230326T010000
END:DAYLIGHT
BEGIN:STANDARD
TZOFFSETFROM:+0100
TZOFFSETTO:+0000
TZNAME:GMT
DTSTART:20231029T010000
END:STANDARD
END:VTIMEZONE
BEGIN:VEVENT
DTSTART;TZID=Europe/London:20230925T190000
DTEND;TZID=Europe/London:20230925T200000
DTSTAMP:20260421T111805
CREATED:20230920T134614Z
LAST-MODIFIED:20230920T134614Z
UID:31883-1695668400-1695672000@scentventure.dog
SUMMARY:Drawing your Dog with Lucia from Wild Ink
DESCRIPTION:Drawing your Dog with Lucia from Wild Ink\n\n\nTime: Sep 25\, 2023 07:00 PM London\n\n\nhttps://us02web.zoom.us/j/87577231376\n\n\nMeeting ID: 875 7723 1376\n\n\nPasscode: 769138
URL:https://scentventure.dog/event/drawing-your-dog-with-lucia-from-wild-ink/
LOCATION:Zoom\, United Kingdom
CATEGORIES:Club Dogwood
END:VEVENT
END:VCALENDAR