BEGIN:VCALENDAR
VERSION:2.0
PRODID:-//Scentventure - ECPv6.10.0//NONSGML v1.0//EN
CALSCALE:GREGORIAN
METHOD:PUBLISH
X-WR-CALNAME:Scentventure
X-ORIGINAL-URL:https://scentventure.dog
X-WR-CALDESC:Events for Scentventure
REFRESH-INTERVAL;VALUE=DURATION:PT1H
X-Robots-Tag:noindex
X-PUBLISHED-TTL:PT1H
BEGIN:VTIMEZONE
TZID:Europe/London
BEGIN:DAYLIGHT
TZOFFSETFROM:+0000
TZOFFSETTO:+0100
TZNAME:BST
DTSTART:20230326T010000
END:DAYLIGHT
BEGIN:STANDARD
TZOFFSETFROM:+0100
TZOFFSETTO:+0000
TZNAME:GMT
DTSTART:20231029T010000
END:STANDARD
END:VTIMEZONE
BEGIN:VEVENT
DTSTART;TZID=Europe/London:20230921T193000
DTEND;TZID=Europe/London:20230921T203000
DTSTAMP:20260421T123843
CREATED:20230906T120713Z
LAST-MODIFIED:20230906T121338Z
UID:31728-1695324600-1695328200@scentventure.dog
SUMMARY:Club Dogwood: Expert Guest Dr Charley Gray - Canine Nutrition & Behaviour
DESCRIPTION:Our expert guest\, veterinary nutritionist\, Dr Charley Gray\, will be sharing her insight and the theory on links between diet\, the gastrointestinal tract\, and behaviour. \n  \nTime: Sep 21\, 2023 07:30 PM London \nhttps://us02web.zoom.us/j/89541443069 \nMeeting ID: 895 4144 3069 \nPasscode: 882370
URL:https://scentventure.dog/event/club-dogwood-expert-guest-dr-charley-gray-canine-nutrition-behaviour/
LOCATION:Zoom\, United Kingdom
CATEGORIES:Club Dogwood
END:VEVENT
END:VCALENDAR