BEGIN:VCALENDAR
VERSION:2.0
PRODID:-//Scentventure - ECPv6.10.0//NONSGML v1.0//EN
CALSCALE:GREGORIAN
METHOD:PUBLISH
X-WR-CALNAME:Scentventure
X-ORIGINAL-URL:https://scentventure.dog
X-WR-CALDESC:Events for Scentventure
REFRESH-INTERVAL;VALUE=DURATION:PT1H
X-Robots-Tag:noindex
X-PUBLISHED-TTL:PT1H
BEGIN:VTIMEZONE
TZID:Europe/London
BEGIN:DAYLIGHT
TZOFFSETFROM:+0000
TZOFFSETTO:+0100
TZNAME:BST
DTSTART:20230326T010000
END:DAYLIGHT
BEGIN:STANDARD
TZOFFSETFROM:+0100
TZOFFSETTO:+0000
TZNAME:GMT
DTSTART:20231029T010000
END:STANDARD
END:VTIMEZONE
BEGIN:VEVENT
DTSTART;TZID=Europe/London:20230912T183000
DTEND;TZID=Europe/London:20230912T193000
DTSTAMP:20260421T123844
CREATED:20230906T121205Z
LAST-MODIFIED:20230906T121205Z
UID:31736-1694543400-1694547000@scentventure.dog
SUMMARY:THRIVE: Foraging Funghi with Dan from UK Funghi
DESCRIPTION:Topic: Thrive: Foraging Funghi\nTime: Sep 12\, 2023 06:30 PM London\nhttps://us02web.zoom.us/j/84817295712\nMeeting ID: 848 1729 5712\nPasscode: 908993 \nUnearth the hidden treasures beneath the forest canopy and cultivate a deeper connection with nature. An introduction to foraging fungi\, and opening the door to a world of delicious and sustainable delights.
URL:https://scentventure.dog/event/thrive-foraging-funghi-with-dan-from-uk-funghi/
LOCATION:Zoom\, United Kingdom
CATEGORIES:THRIVE
END:VEVENT
END:VCALENDAR