BEGIN:VCALENDAR
VERSION:2.0
PRODID:-//Scentventure - ECPv6.10.0//NONSGML v1.0//EN
CALSCALE:GREGORIAN
METHOD:PUBLISH
X-ORIGINAL-URL:https://scentventure.dog
X-WR-CALDESC:Events for Scentventure
REFRESH-INTERVAL;VALUE=DURATION:PT1H
X-Robots-Tag:noindex
X-PUBLISHED-TTL:PT1H
BEGIN:VTIMEZONE
TZID:Europe/London
BEGIN:DAYLIGHT
TZOFFSETFROM:+0000
TZOFFSETTO:+0100
TZNAME:BST
DTSTART:20230326T010000
END:DAYLIGHT
BEGIN:STANDARD
TZOFFSETFROM:+0100
TZOFFSETTO:+0000
TZNAME:GMT
DTSTART:20231029T010000
END:STANDARD
END:VTIMEZONE
BEGIN:VEVENT
DTSTART;TZID=Europe/London:20230824T183000
DTEND;TZID=Europe/London:20230824T193000
DTSTAMP:20260421T141241
CREATED:20230726T091000Z
LAST-MODIFIED:20230726T091000Z
UID:30747-1692901800-1692905400@scentventure.dog
SUMMARY:Club Dogwood - The Importance of Downtime
DESCRIPTION:The Importance of Downtime\nTime: Aug 24\, 2023 06:30 PM London\nhttps://us02web.zoom.us/j/85489557129\nMeeting ID: 854 8955 7129\nPasscode: 342250
URL:https://scentventure.dog/event/club-dogwood-the-importance-of-downtime/
LOCATION:Zoom\, United Kingdom
END:VEVENT
END:VCALENDAR